BEGIN:VCALENDAR
VERSION:2.0
PRODID:-//Mossarium Concept Design - ECPv6.15.18//NONSGML v1.0//EN
CALSCALE:GREGORIAN
METHOD:PUBLISH
X-WR-CALNAME:Mossarium Concept Design
X-ORIGINAL-URL:https://mossarium.com.my
X-WR-CALDESC:Events for Mossarium Concept Design
REFRESH-INTERVAL;VALUE=DURATION:PT1H
X-Robots-Tag:noindex
X-PUBLISHED-TTL:PT1H
BEGIN:VTIMEZONE
TZID:Asia/Shanghai
BEGIN:STANDARD
TZOFFSETFROM:+0800
TZOFFSETTO:+0800
TZNAME:CST
DTSTART:20210101T000000
END:STANDARD
END:VTIMEZONE
BEGIN:VEVENT
DTSTART;TZID=Asia/Shanghai:20220403T110000
DTEND;TZID=Asia/Shanghai:20220403T130000
DTSTAMP:20260423T220526
CREATED:20220326T055304Z
LAST-MODIFIED:20220326T055304Z
UID:3230-1648983600-1648990800@mossarium.com.my
SUMMARY:Open for Booking Public Terrarium Workshop – Globe Forest III
DESCRIPTION:Date – 3RD APRIL 2022  – 11AM – 1PM \nFee –  RM98 \nMINIATURE FOR ILLUSTRATION PURPOSE. COMPLEMENTARY MINIATURE AVAILABLE.
URL:https://mossarium.com.my/event/open-for-booking-public-terrarium-workshop-globe-forest-iii/
LOCATION:Mossarium Uptown
ATTACH;FMTTYPE=image/jpeg:https://mossarium.com.my/wp-content/uploads/2022/03/030422-MORNING-WORKSHOP.jpg
END:VEVENT
BEGIN:VEVENT
DTSTART;TZID=Asia/Shanghai:20220402T150000
DTEND;TZID=Asia/Shanghai:20220402T170000
DTSTAMP:20260423T220526
CREATED:20220326T055107Z
LAST-MODIFIED:20220326T055107Z
UID:3228-1648911600-1648918800@mossarium.com.my
SUMMARY:Open for Booking Public Terrarium Workshop – Tropical Forest Jar
DESCRIPTION:Date – 2ND APRIL 2022 – 3:00PM – 5:00PM \nFee –  RM199 \nSize – 5L
URL:https://mossarium.com.my/event/open-for-booking-public-terrarium-workshop-tropical-forest-jar/
LOCATION:Mossarium Uptown
ATTACH;FMTTYPE=image/jpeg:https://mossarium.com.my/wp-content/uploads/2022/03/020422-AFTERNOON-WORKSHOP.jpg
END:VEVENT
BEGIN:VEVENT
DTSTART;TZID=Asia/Shanghai:20220402T110000
DTEND;TZID=Asia/Shanghai:20220402T130000
DTSTAMP:20260423T220526
CREATED:20220326T054926Z
LAST-MODIFIED:20220326T054926Z
UID:3218-1648897200-1648904400@mossarium.com.my
SUMMARY:Open for Booking Public Terrarium Workshop – Forest Steps
DESCRIPTION:Date – 2ND APRIL 2022 – 11AM – 1PM \nFee –  RM119 EACH \nMINIATURE NOT INCLUSIVE
URL:https://mossarium.com.my/event/open-for-booking-public-terrarium-workshop-forest-steps/
LOCATION:Mossarium Uptown
ATTACH;FMTTYPE=image/jpeg:https://mossarium.com.my/wp-content/uploads/2022/03/020422-MORNING-WORKSHOP.jpg
END:VEVENT
BEGIN:VEVENT
DTSTART;TZID=Asia/Shanghai:20220326T150000
DTEND;TZID=Asia/Shanghai:20220326T170000
DTSTAMP:20260423T220526
CREATED:20220321T044349Z
LAST-MODIFIED:20220321T045351Z
UID:3205-1648306800-1648314000@mossarium.com.my
SUMMARY:Open for Booking Public Terrarium Workshop – Rainforest Cottage
DESCRIPTION:Date – 26TH MARCH 2022 – 3:00PM – 5:00PM \nFee –  SIGNATURE CHOICE – RM249 | DESIGNER CHOICE – RM199 \nMINIATURE NOT INCLUSIVE
URL:https://mossarium.com.my/event/open-for-booking-public-terrarium-workshop-rainforest-cottage/
LOCATION:Mossarium Uptown
ATTACH;FMTTYPE=image/jpeg:https://mossarium.com.my/wp-content/uploads/2022/03/RESIZE.jpg
END:VEVENT
BEGIN:VEVENT
DTSTART;TZID=Asia/Shanghai:20220319T150000
DTEND;TZID=Asia/Shanghai:20220319T170000
DTSTAMP:20260423T220526
CREATED:20220227T092229Z
LAST-MODIFIED:20220227T092938Z
UID:3065-1647702000-1647709200@mossarium.com.my
SUMMARY:Open for Booking Public Terrarium Workshop - Zen Kryptonite (SPECIAL PROMO)
DESCRIPTION:Date – 12TH MARCH 2022 – 3:00PM – 5:00PM \nFee –  RM499
URL:https://mossarium.com.my/event/open-for-booking-public-terrarium-workshop-zen-kryptonite-special-promo/
LOCATION:Mossarium Uptown
ATTACH;FMTTYPE=image/jpeg:https://mossarium.com.my/wp-content/uploads/2022/02/120322-AFTERNOON-WORKSHOP.jpg
END:VEVENT
BEGIN:VEVENT
DTSTART;TZID=Asia/Shanghai:20220313T150000
DTEND;TZID=Asia/Shanghai:20220313T170000
DTSTAMP:20260423T220526
CREATED:20220227T092351Z
LAST-MODIFIED:20220227T092351Z
UID:3067-1647183600-1647190800@mossarium.com.my
SUMMARY:Open for Booking Public Terrarium Workshop - Moss Paradise (WATER FEATURE)
DESCRIPTION:Date – 13TH MARCH  2022 –  3:00PM – 5:00PM \nFee –  RM699
URL:https://mossarium.com.my/event/open-for-booking-public-terrarium-workshop-moss-paradise-water-feature/
LOCATION:Mossarium Uptown
ATTACH;FMTTYPE=image/jpeg:https://mossarium.com.my/wp-content/uploads/2022/02/130322-AFTERNOON-WORKSHOP.jpg
END:VEVENT
BEGIN:VEVENT
DTSTART;TZID=Asia/Shanghai:20220313T110000
DTEND;TZID=Asia/Shanghai:20220313T130000
DTSTAMP:20260423T220526
CREATED:20220227T091940Z
LAST-MODIFIED:20220227T091940Z
UID:3063-1647169200-1647176400@mossarium.com.my
SUMMARY:Open for Booking Public Terrarium Workshop - Zen Garden Signature
DESCRIPTION:Date – 13TH MARCH  2022 – 11 AM – 1 PM \nFee –  1 Bonsai – RM289 \, 2 Bonsai – RM399
URL:https://mossarium.com.my/event/open-for-booking-public-terrarium-workshop-zen-garden-signature/
LOCATION:Mossarium Uptown
ATTACH;FMTTYPE=image/jpeg:https://mossarium.com.my/wp-content/uploads/2022/02/130322-MORNING-WORKSHOP.jpg
END:VEVENT
BEGIN:VEVENT
DTSTART;TZID=Asia/Shanghai:20220312T150000
DTEND;TZID=Asia/Shanghai:20220312T170000
DTSTAMP:20260423T220526
CREATED:20220227T091816Z
LAST-MODIFIED:20220227T092859Z
UID:3060-1647097200-1647104400@mossarium.com.my
SUMMARY:Open for Booking Public Terrarium Workshop - Tea Bonsai Valley
DESCRIPTION:Date – 12TH MARCH 2022 – 11 AM – 1 PM \nFee –  RM249 \nMiniature not inclusive.
URL:https://mossarium.com.my/event/open-for-booking-public-terrarium-workshop-tea-bonsai-valley/
LOCATION:Mossarium Uptown
ATTACH;FMTTYPE=image/jpeg:https://mossarium.com.my/wp-content/uploads/2022/02/120322-MORNING-WORKSHOP.jpg
END:VEVENT
BEGIN:VEVENT
DTSTART;TZID=Asia/Shanghai:20220306T150000
DTEND;TZID=Asia/Shanghai:20220306T170000
DTSTAMP:20260423T220526
CREATED:20220227T091614Z
LAST-MODIFIED:20220227T091614Z
UID:3058-1646578800-1646586000@mossarium.com.my
SUMMARY:Open for Booking Public Terrarium Workshop - Forest Of Zen
DESCRIPTION:Date – 6TH MARCH  2022 – 3:00PM – 5:00PM \nFee –  RM249
URL:https://mossarium.com.my/event/open-for-booking-public-terrarium-workshop-forest-of-zen-2/
LOCATION:Mossarium Uptown
ATTACH;FMTTYPE=image/jpeg:https://mossarium.com.my/wp-content/uploads/2022/02/060322-AFTERNOON-WORKSHOP.jpg
END:VEVENT
BEGIN:VEVENT
DTSTART;TZID=Asia/Shanghai:20220306T110000
DTEND;TZID=Asia/Shanghai:20220306T130000
DTSTAMP:20260423T220526
CREATED:20220227T091430Z
LAST-MODIFIED:20220227T091430Z
UID:3056-1646564400-1646571600@mossarium.com.my
SUMMARY:Open for Booking Public Terrarium Workshop - My Little Forest
DESCRIPTION:Date – 6TH MARCH 2022 – 11 AM – 1 PM \nFee –  RM109 \nMiniature Not inclusive.
URL:https://mossarium.com.my/event/open-for-booking-public-terrarium-workshop-my-little-forest/
LOCATION:Mossarium Uptown
ATTACH;FMTTYPE=image/jpeg:https://mossarium.com.my/wp-content/uploads/2022/02/060322-MORNING-WORKSHOP.jpg
END:VEVENT
BEGIN:VEVENT
DTSTART;TZID=Asia/Shanghai:20220305T150000
DTEND;TZID=Asia/Shanghai:20220305T170000
DTSTAMP:20260423T220526
CREATED:20220227T091207Z
LAST-MODIFIED:20220227T091301Z
UID:3053-1646492400-1646499600@mossarium.com.my
SUMMARY:Open for Booking Public Terrarium Workshop - The Zen Forest
DESCRIPTION:Date – 5TH MARCH 2022 – 3:00PM – 5:00PM \nFee –  RM289
URL:https://mossarium.com.my/event/open-for-booking-public-terrarium-workshop-forest-valley-3/
LOCATION:Mossarium Uptown
ATTACH;FMTTYPE=image/jpeg:https://mossarium.com.my/wp-content/uploads/2022/02/050322-AFTERNOON-WORKSHOP.jpg
END:VEVENT
BEGIN:VEVENT
DTSTART;TZID=Asia/Shanghai:20220305T110000
DTEND;TZID=Asia/Shanghai:20220305T130000
DTSTAMP:20260423T220526
CREATED:20220227T091042Z
LAST-MODIFIED:20220227T091042Z
UID:3041-1646478000-1646485200@mossarium.com.my
SUMMARY:Open for Booking Public Terrarium Workshop - Forest Valley
DESCRIPTION:Date –5TH MARCH  2022 – 11 AM – 1 PM \nFee –  RM149 \nMiniature for illustration purpose. Complementary miniature available.
URL:https://mossarium.com.my/event/open-for-booking-public-terrarium-workshop-forest-valley-2/
LOCATION:Mossarium Uptown
ATTACH;FMTTYPE=image/jpeg:https://mossarium.com.my/wp-content/uploads/2022/02/050322-MORNING-WORKSHOP.jpg
END:VEVENT
BEGIN:VEVENT
DTSTART;TZID=Asia/Shanghai:20220227T150000
DTEND;TZID=Asia/Shanghai:20220227T170000
DTSTAMP:20260423T220526
CREATED:20220220T053238Z
LAST-MODIFIED:20220220T053238Z
UID:3025-1645974000-1645981200@mossarium.com.my
SUMMARY:Open for Booking Public Terrarium Workshop - Rainforest Terrahouse
DESCRIPTION:Date – 27th Feb 2022 –  3 PM – 5 PM \nFee –  RM269
URL:https://mossarium.com.my/event/open-for-booking-public-terrarium-workshop-rainforest-terrahouse/
LOCATION:Mossarium Uptown
ATTACH;FMTTYPE=image/jpeg:https://mossarium.com.my/wp-content/uploads/2022/02/270222-AFTERNOON-WORKSHOP.jpg
END:VEVENT
BEGIN:VEVENT
DTSTART;TZID=Asia/Shanghai:20220227T150000
DTEND;TZID=Asia/Shanghai:20220227T170000
DTSTAMP:20260423T220526
CREATED:20220220T053123Z
LAST-MODIFIED:20220220T053123Z
UID:3022-1645974000-1645981200@mossarium.com.my
SUMMARY:Open for Booking Public Terrarium Workshop - Bamboo Terrahouse
DESCRIPTION:Date – 27th Feb 2022 – 3 PM – 5 PM \nFee –  RM269
URL:https://mossarium.com.my/event/open-for-booking-public-terrarium-workshop-bamboo-terrahouse/
LOCATION:Mossarium Uptown
ATTACH;FMTTYPE=image/jpeg:https://mossarium.com.my/wp-content/uploads/2022/02/270222-AFTERNOON-WORKSHOP-B.jpg
END:VEVENT
BEGIN:VEVENT
DTSTART;TZID=Asia/Shanghai:20220227T110000
DTEND;TZID=Asia/Shanghai:20220227T130000
DTSTAMP:20260423T220526
CREATED:20220220T052800Z
LAST-MODIFIED:20220220T052800Z
UID:3019-1645959600-1645966800@mossarium.com.my
SUMMARY:Open for Booking Public Terrarium Workshop - The Zen
DESCRIPTION:Date – 27th Feb 2022 – 11 AM – 1 PM \nFee –  RM249
URL:https://mossarium.com.my/event/open-for-booking-public-terrarium-workshop-the-zen/
LOCATION:Mossarium Uptown
ATTACH;FMTTYPE=image/jpeg:https://mossarium.com.my/wp-content/uploads/2022/02/270222-MORNING-WORKSHOP.jpg
END:VEVENT
BEGIN:VEVENT
DTSTART;TZID=Asia/Shanghai:20220226T150000
DTEND;TZID=Asia/Shanghai:20220226T170000
DTSTAMP:20260423T220526
CREATED:20220220T052136Z
LAST-MODIFIED:20220220T052525Z
UID:3014-1645887600-1645894800@mossarium.com.my
SUMMARY:Open for Booking Public Terrarium Workshop - Totoro Forest
DESCRIPTION:Date – 26th Feb 2022 – 3 PM – 5 PM \nFee –  RM249 \n(Inclusive of 1 Totoro\, design depending on stock availability)
URL:https://mossarium.com.my/event/open-for-booking-public-terrarium-workshop-totoro-forest/
LOCATION:Mossarium Uptown
ATTACH;FMTTYPE=image/jpeg:https://mossarium.com.my/wp-content/uploads/2022/02/260222-AFTERNOON-WORKSHOP.jpg
END:VEVENT
BEGIN:VEVENT
DTSTART;TZID=Asia/Shanghai:20220226T110000
DTEND;TZID=Asia/Shanghai:20220226T130000
DTSTAMP:20260423T220526
CREATED:20220220T053736Z
LAST-MODIFIED:20220220T053736Z
UID:3028-1645873200-1645880400@mossarium.com.my
SUMMARY:Open for Booking Public Terrarium Workshop - Dome Forest
DESCRIPTION:Date – 26th Feb 2022 – 11 AM – 1 PM \nFee –  RM149
URL:https://mossarium.com.my/event/open-for-booking-public-terrarium-workshop-dome-forest/
LOCATION:Mossarium Uptown
ATTACH;FMTTYPE=image/jpeg:https://mossarium.com.my/wp-content/uploads/2022/02/260222-MORNING-WORKSHOP-2.jpg
END:VEVENT
BEGIN:VEVENT
DTSTART;TZID=Asia/Shanghai:20220226T110000
DTEND;TZID=Asia/Shanghai:20220226T130000
DTSTAMP:20260423T220526
CREATED:20220220T052636Z
LAST-MODIFIED:20220220T052636Z
UID:3017-1645873200-1645880400@mossarium.com.my
SUMMARY:Open for Booking Public Terrarium Workshop - Forest Vessel
DESCRIPTION:Date – 26th Feb 2022 – 11 AM – 1 PM \nFee –  RM149 \n(not inclusive of totoro figurine)
URL:https://mossarium.com.my/event/open-for-booking-public-terrarium-workshop-forest-vessel-2/
LOCATION:Mossarium Uptown
ATTACH;FMTTYPE=image/jpeg:https://mossarium.com.my/wp-content/uploads/2022/02/WhatsApp-Image-2022-02-18-at-6.41.54-PM.jpeg
END:VEVENT
BEGIN:VEVENT
DTSTART;TZID=Asia/Shanghai:20220220T150000
DTEND;TZID=Asia/Shanghai:20220220T170000
DTSTAMP:20260423T220526
CREATED:20220214T153904Z
LAST-MODIFIED:20220214T153904Z
UID:2950-1645369200-1645376400@mossarium.com.my
SUMMARY:Open for Booking Public Terrarium Workshop - Cliff Bonsai
DESCRIPTION:Date – 20th Feb 2022 –  3 PM – 5 PM \nFee –  RM269
URL:https://mossarium.com.my/event/open-for-booking-public-terrarium-workshop-cliff-bonsai/
LOCATION:Mossarium Uptown
ATTACH;FMTTYPE=image/jpeg:https://mossarium.com.my/wp-content/uploads/2022/02/200222-AFTERNOON-WORKSHOP.jpg
END:VEVENT
BEGIN:VEVENT
DTSTART;TZID=Asia/Shanghai:20220220T110000
DTEND;TZID=Asia/Shanghai:20220220T130000
DTSTAMP:20260423T220526
CREATED:20220214T152440Z
LAST-MODIFIED:20220214T152440Z
UID:2938-1645354800-1645362000@mossarium.com.my
SUMMARY:Open for Booking Public Terrarium Workshop - Forest of Zen
DESCRIPTION:Date – 20th Feb 2022 – 11 AM – 1 PM \nFee –  RM249
URL:https://mossarium.com.my/event/open-for-booking-public-terrarium-workshop-forest-of-zen/
LOCATION:Mossarium Uptown
ATTACH;FMTTYPE=image/jpeg:https://mossarium.com.my/wp-content/uploads/2022/02/200222-MORNING-WORKSHOP.jpg
END:VEVENT
BEGIN:VEVENT
DTSTART;TZID=Asia/Shanghai:20220219T150000
DTEND;TZID=Asia/Shanghai:20220219T170000
DTSTAMP:20260423T220526
CREATED:20220214T152648Z
LAST-MODIFIED:20220214T152648Z
UID:2945-1645282800-1645290000@mossarium.com.my
SUMMARY:Open for Booking Public Terrarium Workshop - Zen Pentagon
DESCRIPTION:Date – 19th Feb 2022 – 3 PM – 5 PM \nFee –  RM269 \nMINIATURE ARE NOT INCLUSIVE.
URL:https://mossarium.com.my/event/open-for-booking-public-terrarium-workshop-zen-pentagon/
LOCATION:Mossarium Uptown
ATTACH;FMTTYPE=image/jpeg:https://mossarium.com.my/wp-content/uploads/2022/02/190222-AFTERNOON-WORKSHOP.jpg
END:VEVENT
BEGIN:VEVENT
DTSTART;TZID=Asia/Shanghai:20220219T110000
DTEND;TZID=Asia/Shanghai:20220219T130000
DTSTAMP:20260423T220526
CREATED:20220214T153528Z
LAST-MODIFIED:20220214T153528Z
UID:2948-1645268400-1645275600@mossarium.com.my
SUMMARY:Open for Booking Public Terrarium Workshop - Forest Valley
DESCRIPTION:Date – 19th Feb 2022 – 11 AM – 1 PM \nFee –  RM169
URL:https://mossarium.com.my/event/open-for-booking-public-terrarium-workshop-forest-valley/
LOCATION:Mossarium Uptown
ATTACH;FMTTYPE=image/jpeg:https://mossarium.com.my/wp-content/uploads/2022/02/190222-MORNING-WORKSHOP.jpg
END:VEVENT
BEGIN:VEVENT
DTSTART;TZID=Asia/Shanghai:20220213T110000
DTEND;TZID=Asia/Shanghai:20220213T130000
DTSTAMP:20260423T220526
CREATED:20220128T045351Z
LAST-MODIFIED:20220128T045351Z
UID:2865-1644750000-1644757200@mossarium.com.my
SUMMARY:Open for Booking Valentines Workshop – Valentines Garden
DESCRIPTION:Date – 13th Feb 2022 – 3 PM –  5 PM \nFee –  RM 299 (ONE SET \, 18CM & 13 CM GLASS) \n  \ninclusive of 1 set couple figurine. \n 
URL:https://mossarium.com.my/event/open-for-booking-valentines-workshop-valentines-garden/
LOCATION:Mossarium Uptown
ATTACH;FMTTYPE=image/jpeg:https://mossarium.com.my/wp-content/uploads/2022/01/130222-AFTERNOON-WORKSHOP.jpg
END:VEVENT
BEGIN:VEVENT
DTSTART;TZID=Asia/Shanghai:20220213T110000
DTEND;TZID=Asia/Shanghai:20220213T130000
DTSTAMP:20260423T220526
CREATED:20220128T044715Z
LAST-MODIFIED:20220128T044715Z
UID:2862-1644750000-1644757200@mossarium.com.my
SUMMARY:Open for Booking Valentines Workshop - Valentines Eggie
DESCRIPTION:Date – 13th Feb 2022 – 11 AM – 1 PM \nFee –  RM149 each\, inclusive of couple figurine. (available different choices) \n 
URL:https://mossarium.com.my/event/open-for-booking-valentines-workshop-valentines-eggie/
LOCATION:Mossarium Uptown
ATTACH;FMTTYPE=image/jpeg:https://mossarium.com.my/wp-content/uploads/2022/01/130222-MORNING-WORKSHOP.jpg
END:VEVENT
BEGIN:VEVENT
DTSTART;TZID=Asia/Shanghai:20220212T150000
DTEND;TZID=Asia/Shanghai:20220212T170000
DTSTAMP:20260423T220526
CREATED:20220128T045555Z
LAST-MODIFIED:20220128T045555Z
UID:2868-1644678000-1644685200@mossarium.com.my
SUMMARY:Open for Booking Public Workshop – Vertical Garden
DESCRIPTION:Date – 12th Feb – 3 PM – 5 PM \nFee –  RM269 (NOT INCLUSIVE OF TOTORO) \n 
URL:https://mossarium.com.my/event/open-for-booking-public-workshop-vertical-garden/
LOCATION:Mossarium Uptown
ATTACH;FMTTYPE=image/jpeg:https://mossarium.com.my/wp-content/uploads/2022/01/120222-AFTERNOON-WORKSHOP.jpg
END:VEVENT
BEGIN:VEVENT
DTSTART;TZID=Asia/Shanghai:20220212T110000
DTEND;TZID=Asia/Shanghai:20220212T130000
DTSTAMP:20260423T220526
CREATED:20220128T103925Z
LAST-MODIFIED:20220128T103925Z
UID:2872-1644663600-1644670800@mossarium.com.my
SUMMARY:Open for Booking Valentines Workshop – Valentines Forest
DESCRIPTION:Date – 12th Feb 2022 – 11 AM – 1 PM \nFee –  RM149 each\, inclusive of couple figurine. (available different choices) \n 
URL:https://mossarium.com.my/event/open-for-booking-valentines-workshop-valentines-forest/
LOCATION:Mossarium Uptown
ATTACH;FMTTYPE=image/jpeg:https://mossarium.com.my/wp-content/uploads/2022/01/120222-MORNING-WORKSHOP.jpg
END:VEVENT
BEGIN:VEVENT
DTSTART;TZID=Asia/Shanghai:20220123T150000
DTEND;TZID=Asia/Shanghai:20220123T170000
DTSTAMP:20260423T220526
CREATED:20220119T045007Z
LAST-MODIFIED:20220119T045007Z
UID:2832-1642950000-1642957200@mossarium.com.my
SUMMARY:Open for booking Public Terrarium Workshop – Zen Blooming Garden
DESCRIPTION:Date – 23rd January 2021 – 3:00 PM – 5:00 PM \nFee –  RM 269 – 18 CM DIAMETER
URL:https://mossarium.com.my/event/open-for-booking-public-terrarium-workshop-zen-blooming-garden/
LOCATION:Mossarium Uptown
ATTACH;FMTTYPE=image/jpeg:https://mossarium.com.my/wp-content/uploads/2022/01/WhatsApp-Image-2022-01-10-at-4.24.21-PM.jpeg
END:VEVENT
BEGIN:VEVENT
DTSTART;TZID=Asia/Shanghai:20220123T110000
DTEND;TZID=Asia/Shanghai:20220123T130000
DTSTAMP:20260423T220526
CREATED:20220119T044903Z
LAST-MODIFIED:20220119T044903Z
UID:2830-1642935600-1642942800@mossarium.com.my
SUMMARY:Open for booking Public Terrarium Workshop – Blooming Moss Frame
DESCRIPTION:Date – 23rd January 2021 – 11 am – 1 pm \nFee –  RM 599
URL:https://mossarium.com.my/event/open-for-booking-public-terrarium-workshop-blooming-moss-frame/
LOCATION:Mossarium Uptown
ATTACH;FMTTYPE=image/jpeg:https://mossarium.com.my/wp-content/uploads/2022/01/WhatsApp-Image-2022-01-10-at-6.21.20-PM.jpeg
END:VEVENT
BEGIN:VEVENT
DTSTART;TZID=Asia/Shanghai:20220122T150000
DTEND;TZID=Asia/Shanghai:20220122T170000
DTSTAMP:20260423T220526
CREATED:20220110T132943Z
LAST-MODIFIED:20220110T132943Z
UID:2796-1642863600-1642870800@mossarium.com.my
SUMMARY:Open for booking Public Terrarium Workshop - Zen Garden The Original
DESCRIPTION:Date – 22nd January 2021 – 3:00 PM – 5:00 PM \nFee –  DESIGNER CHOICE – RM 249 | SIGNATURE CHOICE – RM 399
URL:https://mossarium.com.my/event/open-for-booking-public-terrarium-workshop-zen-garden-the-original/
LOCATION:Mossarium Uptown
ATTACH;FMTTYPE=image/jpeg:https://mossarium.com.my/wp-content/uploads/2022/01/WhatsApp-Image-2022-01-10-at-1.21.50-PM.jpeg
END:VEVENT
BEGIN:VEVENT
DTSTART;TZID=Asia/Shanghai:20220122T110000
DTEND;TZID=Asia/Shanghai:20220122T130000
DTSTAMP:20260423T220526
CREATED:20220119T044731Z
LAST-MODIFIED:20220119T044731Z
UID:2828-1642849200-1642856400@mossarium.com.my
SUMMARY:Open for booking Public Terrarium Workshop – Zen Pavilion
DESCRIPTION:Date – 22nd January 2021 – 11AM – 1PM \nFee  – RM 249 EACH
URL:https://mossarium.com.my/event/open-for-booking-public-terrarium-workshop-zen-pavilion/
LOCATION:Mossarium Uptown
ATTACH;FMTTYPE=image/jpeg:https://mossarium.com.my/wp-content/uploads/2022/01/WhatsApp-Image-2022-01-10-at-6.20.24-PM-1.jpeg
END:VEVENT
END:VCALENDAR